Workbook
Name factor_table: F!$F$10:$F$33

Sheet สรุป Factor F-แบบรวม
B2: บัญชีแสดงรายการก่อสร้างสำหรับงานก่อสร้างอาคาร
B3: ส่วนราชการ สถาบันสุขภาพเด็กแห่งชาติมหาราชินี กรมการแพทย์ กระทรวงสาธารณสุข โทร 02
C4: ประเภท | D4: โครงการพัฒนาปรับปรุงพื้นที่ ส. 9 850 ตร.ม. x 30,000 บาท/ตารางเมตร /1.4 โครงการพัฒนาปรับปรุงพื้นที่หอผู้ป่วย
D5: ส. 9 ฝั่งตะวันออก โดยปรับปรุงเป็น NICU จำนวน 850 ตร.ม. x 30,000 บาท ต่อตารางเมตร (พัฒนาปรับปรุงพื้นที่
D6: หอผู้ป่วย ส. 9 และพื้นที่หอผู้ป่วย ส. 9 ฝั่งตะวันออก)
C7: สถานที่ก่อสร้าง | D7: =[1]ปร.4!D3 -> เลขที่ 420/8 ถ.ราชวิถี แขวงทุ่งพญาไท เขตราชเทวี กรุงเทพมหานคร
C8: หน่วยงานออกแบบแปลนและรายการ | E8: สถาบันสุขภาพเด็กแห่งชาติมหาราชินี
C9: แบบเลขที่ | D9: แบบเอกชน | H9: พื้นที่อาคาร | I9: ตร.ม.
C10: ประมาณราคาตามแบบ ปร.4 | E10: จำนวน | F10: 0 | G10: แผ่น | H10: จำนวนชั้น
C11: ราคาค่าวัสดุ สำนักดัชนีเศรษฐกิจการค้า กระทรวงพาณิชย์ กรุงเทพมหานคร ประจำเดือน เมษายน 2565
C12: ราคาค่าแรงงานตามบัญชีค่าแรงงาน / ค่าดำเนินการ สำหรับถอดแบบคำนวนราคากลางงานก่อสร้าง เดือน ธันวาคม 2561
C13: ประมาณราคาเมื่อเดือน กุมภาพันธ์ 2564 | G13: ปรับราคาเมื่อเดือน พฤษภาคม 2565
B14: หลักเกณฑ์และวิธีการกำหนดราคากลางงานก่อสร้าง ลงวันที่ 19 ตุลาคม 2560 (ราชกิจจานุเบกษา ลงวันที่ 14 พ.ย. 2560 มีผลใช้บังคับ วันที่ 15 พ.ย. 2560)
B15: ประกาศอัตราดอกเบี้ยเงินกู้ฯ และปรับปรุงตาราง Factor F หนังสือกรมบัญชีกลาง ที่ กค 0433.2/ว.281 ลงวันที่ 19 มิถุนายน 2563
B16: FACTOR . F ประเภทงานอาคาร เงื่อนไข - เงินล่วงหน้าจ่าย 0% , - เงินประกันผลงานหัก 0 % , - ดอกเบี้ยเงินกู้ 5 % , ค่าภาษีมูลค่าเพิ่ม 7 %
B18: ลำดับที่ | C18: รายการ | G18: ราคาค่าก่อสร้างปรับปรุง | I18: หมายเหตุ
G19: -
B20: 1 | C20: ค่างานส่วนที่ 1 ค่างานต้นทุน (คำนวนในราคาทุน) | G20: - | H20: =สรุปส่วนงาน!G48 -> 25468055
C21: ราคารวมค่า Factor F | F21: =F!C14 -> 1.2222 | G21: - | H21: =H20*F21 -> 31127057
B22: 2 | C22: ค่างานส่วนที่ 2 หมวดงานครุภัณฑ์จัดซื้อหรือสั่งซื้อ | G22: - | H22: =สรุปส่วนงาน!G59 -> 22634983
C23: ราคารวมค่าภาษีมูลค่าเพิ่ม (VAT) | F23: 7 % | G23: - | H23: =H22*1.07 -> 24219432
B24: 3 | C24: ค่างานส่วนที่ 3 ค่าใช้จ่ายพิเศษตามข้อกำหนดฯ (ถ้ามี) | H24: =สรุปส่วนงาน!G65 -> 502700
B26: รวมเงิน (1)+(2)+(3) | H26: =H21+H23+H24 -> 55849189
B27: คิดเป็นเงินทั้งสิ้นโดยประมาณ | H27: =H26 -> 55849189 | K27: 0
D28: (ตัวอักษร) | G28: =BAHTTEXT(H27) -> ห้าสิบห้าล้านแปดแสนสี่หมื่นเก้าพันหนึ่งร้อยแปดสิบเก้าบาทหกสตางค์
C29: พื้นที่อาคาร | D29: 0 | E29: ตร.ม. | F29: เฉลี่ยราคา | G29: 0 | I29: บาท / ตร.ม.
B32: (ลงชื่อ)..........................................................ประธานคณะกรรมการ
B33: (นายศุภวัชร บุญกษิดิ์เดช)
B35: (ลงชื่อ)........................................................กรรมการ (ลงชื่อ).....................................................กรรมการ
B36: (นายเปรมศักดิ์ เหล่าอยู่คง) (นางอรวรรณ ขาวโสภา)
B38: (ลงชื่อ)........................................................กรรมการ (ลงชื่อ).....................................................กรรมการ
B39: (นางอัชฌา พัฒนาศรีโรจน์) (นายอนุวัฒน์ วุฒิมานพ)
B41: (ลงชื่อ)........................................................กรรมการ
B42: (นายสุพร ขุมทอง)

Sheet สรุปส่วนงาน
B1: บัญชีแสดงรายการก่อสร้างสำหรับงานก่อสร้างอาคาร
B2: โครงการก่อสร้าง | D2: โครงการพัฒนาปรับปรุงพื้นที่ ส. 9 850 ตร.ม. x 30,000 บาท/ตารางเมตร /1.4 โครงการพัฒนาปรับปรุงพื้นที่หอผู้ป่วย ส. 9 ฝั่งตะวันออก โดยปรับปรุงเป็น NICU จำนวน 850 ตร.ม. x 30,000 บาท ต่อตารางเมตร (พัฒนาปรับปรุงพื้นที่ หอผู้ป่วย ส. 9 และพื้นที่หอผู้ป่วย ส. 9 ฝั่งตะวันออก) | F2: แบบเลขที่ | G2: แบบเอกชน
B3: สถานที่ก่อสร้าง | D3: สถาบันสุขภาพแห่งชาติมหาราชินี ถนนราชวิถี แขวงทุ่งพญาไท เขตราชเทวี กทม. | F3: เอกสารเลขที่
B4: ลำดับ | C4: รายการ | E4: จำนวนเงิน | G4: รวมเป็นเงิน
E5: ค่าวัสดุ | F5: ค่าแรง
C7: ส่วนงานที่ 1
B8: 1 | C8: กลุ่มงานที่ 1
C9: (คิดเฉพาะค่าวัสดุและค่าแรงงานหรือทุนซึ่งยังไม่รวมค่าอำนวยการ ดอกเบี้ย กำไร และภาษี)
C10: 1.1 | D10: งานโครงสร้าง
D11: 1.1.1 งานโครงสร้างอาคาร
D12: 1.1.2 งานโครงเหล็กรับพื้น | E12: ='BOQ-30-11-2564'!H19 -> 0 | F12: ='BOQ-30-11-2564'!J19 -> 0 | G12: =SUM(E12:F12) -> 0 | H12: ='BOQ-30-11-2564'!K19 -> 0
C13: 1.2 | D13: งานสถาปัตยกรรม
D14: 1.2.1 งานรื้อถอน | E14: ='BOQ-30-11-2564'!H31 -> 0 | F14: ='BOQ-30-11-2564'!J31 -> 89520 | G14: =SUM(E14:F14) -> 89520 | H14: ='BOQ-30-11-2564'!K31 -> 89520
D15: 1.2.2 งานฝ้าเพดาน | E15: ='BOQ-30-11-2564'!H43 -> 341816 | F15: ='BOQ-30-11-2564'!J43 -> 67525 | G15: =SUM(E15:F15) -> 409341 | H15: ='BOQ-30-11-2564'!K43 -> 409341
D16: 1.2.3 งานผนัง - ผิวผนัง | E16: ='BOQ-30-11-2564'!H66 -> 1324627.7 | F16: ='BOQ-30-11-2564'!J66 -> 482435.56 | G16: =SUM(E16:F16) -> 1807063.2 | H16: ='BOQ-30-11-2564'!K66 -> 1807063.2
D17: 1.2.4 งานพื้น - ผิวพื้น | E17: ='BOQ-30-11-2564'!H80 -> 1111897 | F17: ='BOQ-30-11-2564'!J80 -> 238936 | G17: =SUM(E17:F17) -> 1350833 | H17: ='BOQ-30-11-2564'!K24 -> 9000
D18: 1.2.5 งานประตู - หน้าต่าง | E18: ='BOQ-30-11-2564'!H140 -> 2353810 | F18: ='BOQ-30-11-2564'!J140 -> 50350 | G18: =SUM(E18:F18) -> 2404160 | H18: ='BOQ-30-11-2564'!K140 -> 2404160
D19: 1.2.6 งานสุขภัณฑ์ | E19: ='BOQ-30-11-2564'!H170 -> 276840 | F19: ='BOQ-30-11-2564'!J170 -> 21580 | G19: =SUM(E19:F19) -> 298420 | H19: ='BOQ-30-11-2564'!K170 -> 298420
D20: 1.2.7 งานทาสี | E20: ='BOQ-30-11-2564'!H177 -> 200955 | F20: ='BOQ-30-11-2564'!J177 -> 120573 | G20: =SUM(E20:F20) -> 321528 | H20: ='BOQ-30-11-2564'!K177 -> 321528
D21: 1.2.8 งานเบ็ดเตล็ด | E21: ='BOQ-30-11-2564'!H184 -> 212500 | F21: ='BOQ-30-11-2564'!J184 -> 33750 | G21: =SUM(E21:F21) -> 246250 | H21: ='BOQ-30-11-2564'!K184 -> 246250
C22: 1.3 | D22: งานระบบประปา - สุขาภิบาล และงานระบบดับเพลิง | E22: ='BOQ-30-11-2564'!H227 -> 375744.84 | F22: ='BOQ-30-11-2564'!J227 -> 148324.11 | G22: =SUM(E22:F22) -> 524068.96 | H22: ='BOQ-30-11-2564'!K185 -> 0
C23: 1.4 | D23: งานระบบไฟฟ้าและสื่อสาร | H23: ='BOQ-30-11-2564'!K186 -> 0
D24: 1.4.1 งานระบบไฟฟ้า - ดวงโคม | E24: ='BOQ-30-11-2564'!H301 -> 5842411.3 | F24: ='BOQ-30-11-2564'!J301 -> 1404047.4 | G24: =SUM(E24:F24) -> 7246458.7 | H24: ='BOQ-30-11-2564'!K187 -> 0
D25: 1.4.2 งานระบบโทรศัพท์ | E25: ='BOQ-30-11-2564'!H316 -> 924728.16 | F25: ='BOQ-30-11-2564'!J316 -> 558289.84 | G25: =SUM(E25:F25) -> 1483018 | H25: ='BOQ-30-11-2564'!K188 -> 0
D26: 1.4.3 งานระบบแจ้งเพลิงใหม้ | E26: ='BOQ-30-11-2564'!H338 -> 508617.89 | F26: ='BOQ-30-11-2564'!J338 -> 172152.25 | G26: =SUM(E26:F26) -> 680770.14 | H26: ='BOQ-30-11-2564'!K189 -> 23560
D27: 1.4.4 งานระบบควบคุมการเข้าออกและโทรทัศน์วงจรปิด | E27: ='BOQ-30-11-2564'!H350 -> 52233.287 | F27: ='BOQ-30-11-2564'!J350 -> 46600 | G27: =SUM(E27:F27) -> 98833.287 | H27: ='BOQ-30-11-2564'!K190 -> 11476
D28: 1.4.5 งานระบบ MATV | E28: ='BOQ-30-11-2564'!H361 -> 51435.03 | F28: ='BOQ-30-11-2564'!J361 -> 36900 | G28: =SUM(E28:F28) -> 88335.03 | H28: ='BOQ-30-11-2564'!K191 -> 45696.6
D29: 1.4.6 งานระบบเสียงประกาศ | E29: ='BOQ-30-11-2564'!H373 -> 201617.26 | F29: ='BOQ-30-11-2564'!J373 -> 45870 | G29: =SUM(E29:F29) -> 247487.26 | H29: ='BOQ-30-11-2564'!K192 -> 4147
C30: 1.5 | D30: งานระบบปรับอากาศและระบายอากาศ | E30: ='BOQ-30-11-2564'!H526 -> 2027858 | F30: ='BOQ-30-11-2564'!J526 -> 522729.12 | G30: =SUM(E30:F30) -> 2550587.1 | H30: ='BOQ-30-11-2564'!K193 -> 1150
C31: 1.6 | D31: งานระบบเครื่องกลและงานระบบพิเศษ | H31: ='BOQ-30-11-2564'!K194 -> 3620
D32: 1.6.1 งานระบบแก๊สทางการแพทย์ | E32: ='BOQ-30-11-2564'!H554 -> 684235.3 | F32: ='BOQ-30-11-2564'!J554 -> 106398.55 | G32: =SUM(E32:F32) -> 790633.85 | H32: ='BOQ-30-11-2564'!K195 -> 39660.79
H33: ='BOQ-30-11-2564'!K196 -> 15864.316
D34: รวมค่างานกลุ่มงานที่ 1 | E34: =SUM(E8:E33) -> 16491327 | F34: =SUM(F10:F33) -> 4145980.8 | G34: =E34+F34 -> 20637308 | H34: ='BOQ-30-11-2564'!K197 -> 7932.158 | I34: =E34+#REF!+#REF! -> #REF!
H35: ='BOQ-30-11-2564'!K198 -> 0
B36: 2 | C36: กลุ่มงานที่ 2 | H36: ='BOQ-30-11-2564'!K199 -> 5382.74
C37: (คิดเฉพาะค่าวัสดุและค่าแรงงานหรือทุนซึ่งยังไม่รวมค่าอำนวยการ ดอกเบี้ย กำไร และภาษี) | H37: ='BOQ-30-11-2564'!K200 -> 37661.65
D38: งานตกแต่งภายในอาคาร | E38: ='BOQ-30-11-2564'!H585 -> 4417048 | F38: ='BOQ-30-11-2564'!J585 -> 413699.8 | G38: =SUM(E38:F38) -> 4830747.8 | H38: ='BOQ-30-11-2564'!K201 -> 2683.905
H39: ='BOQ-30-11-2564'!K202 -> 7404.8175
D40: รวมค่างานกลุ่มงานที่ 2 | E40: =SUM(E36:E38) -> 4417048 | F40: =SUM(F36:F38) -> 413699.8 | G40: =E40+F40 -> 4830747.8 | H40: ='BOQ-30-11-2564'!K203 -> 43817.84
H41: ='BOQ-30-11-2564'!K204 -> 29834.195
...

Sheet BOQ-30-11-2564
B1: บัญชีแสดงรายการก่อสร้างสำหรับงานก่อสร้างอาคาร
B2: โครงการก่อสร้าง | D2: โครงการพัฒนาปรับปรุงพื้นที่ ส. 9 850 ตร.ม. x 30,000 บาท/ตารางเมตร /1.4 โครงการพัฒนาปรับปรุงพื้นที่หอผู้ป่วย ส. 9 ฝั่งตะวันออก โดยปรับปรุงเป็น NICU จำนวน 850 ตร.ม. x 30,000 บาท ต่อตารางเมตร (พัฒนาปรับปรุงพื้นที่ หอผู้ป่วย ส. 9 และพื้นที่หอผู้ป่วย ส. 9 ฝั่งตะวันออก) | J2: แบบเลขที่
B4: สถานที่ก่อสร้าง | D4: สถาบันสุขภาพแห่งชาติมหาราชินี ถนนราชวิถี แขวงทุ่งพญาไท เขตราชเทวี กทม. | J4: เอกสารเลขที่
B5: ผู้ประมาณการ | D5: บริษัท S2 all.,ltd. | E5: วันที่ประมาณราคา เดือนกุมภาพันธ์ 2564 | J5: พื้นที่อาคาร | K5: ตร.ม.
B6: ผู้ปรับราคา | E6: วันที่แจ้งราคา | J6: จำนวน | K6: ชั้น
B7: ผู้ตรวจสอบ | D7: คณะกรรมการกำหนดราคากลาง | E7: ตรวจสอบปรับราคา | G7: เดือน พฤษภาคม 2565
B9: ลำดับ | C9: รายการ | E9: หน่วย | F9: จำนวน | G9: ราคาวัสดุ | I9: ค่าแรงงาน | K9: ราคารวม
G10: ต่อหน่วย | H10: รวมวัสดุ | I10: ต่อหน่วย | J10: รวมค่าแรง
C12: ส่วนงานที่ 1
C13: กลุ่มงานที่ 1
B14: 1.1 | C14: งานโครงสร้างทั่วไป
C16: รวม (1.1.1 ) งานโครงสร้างทั่วไป | H16: =SUM(H15:H15) -> 0 | J16: =SUM(J15:J15) -> 0 | K16: =H16+J16 -> 0
C17: 1.1.2 งานโครงเหล็ก
C19: รวม (1.1.2 ) งานโครงเหล็ก | H19: =SUM(H18:H18) -> 0 | J19: =SUM(J18:J18) -> 0 | K19: =SUM(K18:K18) -> 0 | L19: =(H19+J19) -> 0
B21: 1.2 | C21: งานสถาปัตยกรรม
C22: 1.2.1 งานรื้อถอน
C23: งานรื้อถอน-ขนทิ้ง
C24: - รื้อถอนผนังก่ออิฐ | E24: ตร.ม. | F24: 300 | G24: 0 | H24: =F24*G24 -> 0 | I24: 30 | J24: =F24*I24 -> 9000 | K24: =H24+J24 -> 9000 | L24: =SUM(H24+J24) -> 9000 | M24: =(G24+I24)*F24 -> 9000
C25: - รื้อถอนฝ้า | E25: ตร.ม. | F25: 1200 | G25: 0 | H25: =F25*G25 -> 0 | I25: 20 | J25: =F25*I25 -> 24000 | K25: =H25+J25 -> 24000 | L25: =SUM(H25+J25) -> 24000 | M25: =(G25+I25)*F25 -> 24000
C26: - รื้อถอนประตู-หน้าต่าง | E26: ตร.ม. | F26: 300 | G26: 0 | H26: =F26*G26 -> 0 | I26: 100 | J26: =F26*I26 -> 30000 | K26: =H26+J26 -> 30000 | L26: =SUM(H26+J26) -> 30000 | M26: =(G26+I26)*F26 -> 30000
C27: - รื้อถอนเครื่องปรับอากาศ | E27: ชุด | F27: 25 | G27: 0 | H27: =F27*G27 -> 0 | I27: 500 | J27: =F27*I27 -> 12500 | K27: =H27+J27 -> 12500 | L27: =SUM(H27+J27) -> 12500 | M27: =(G27+I27)*F27 -> 12500
C28: - รื้อถอนดวงโคมไฟฟ้า | E28: ชุด | F28: =95+139 -> 234 | G28: 0 | H28: =F28*G28 -> 0 | I28: 30 | J28: =F28*I28 -> 7020 | K28: =H28+J28 -> 7020 | L28: =SUM(H28+J28) -> 7020 | M28: =(G28+I28)*F28 -> 7020
C29: - รื้อถอนงานระบบก๊าซทางการแพทย์ | E29: ชุด | F29: 70 | G29: 0 | H29: =F29*G29 -> 0 | I29: 100 | J29: =F29*I29 -> 7000 | K29: =H29+J29 -> 7000 | L29: =SUM(H29+J29) -> 7000 | M29: =(G29+I29)*F29 -> 7000
C31: รวม (1.2.1 ) งานรื้อถอน | H31: =SUM(H23:H29) -> 0 | J31: =SUM(J23:J29) -> 89520 | K31: =SUM(K23:K29) -> 89520 | L31: =H31+J31 -> 89520 | M31: =K31-L31 -> 0
C32: 1.2.2 งานฝ้าเพดาน
B33: 1 | C33: C1 | D33: ฝ้าเพดานยิบซั่มบอร์ด หนา 9 มม. ฉาบเรียบพร้อมโครงเคร่าและอุปกรณ์ | E33: ตร.ม. | F33: 1613 | G33: 286 | H33: =F33*G33 -> 461318 | I33: =75 -> 75 | J33: =F33*I33 -> 120975 | K33: =H33+J33 -> 582293 | L33: =(G33+I33)*F33 -> 582293 | M33: =(G33+I33)*F33 -> 582293 | O33: สพฐ 2565
B34: 2 | C34: C2 | D34: ฝ้าเพดานยิบซั่มบอร์ด หนา 9 มม. ทนชื้น ฉาบเรียบ พร้อมโครงเคร่าและอุปกรณ์ | E34: ตร.ม. | F34: 160 | G34: 338 | H34: =F34*G34 -> 54080 | I34: =75 -> 75 | J34: =F34*I34 -> 12000 | K34: =H34+J34 -> 66080 | L34: =(G34+I34)*F34 -> 66080 | M34: =(G34+I34)*F34 -> 66080 | O34: สพฐ 2565
B35: 3 | C35: C3 | D35: ฝ้าเพดานยิบซั่มบอร์ด หนา 9 มม. ฉาบเรียบพร้อมโครงเคร่าและอุปกรณ์ | E35: ตร.ม. | F35: 218 | G35: =286+350 -> 636 | H35: =F35*G35 -> 138648 | I35: =75+125 -> 200 | J35: =F35*I35 -> 43600 | K35: =H35+J35 -> 182248 | L35: =(G35+I35)*F35 -> 182248 | M35: =(G35+I35)*F35 -> 182248 | O35: สพฐ 2565+wall paper
D36: ปิดวอลล์เปเปอร์(ชนิดหลังผ้า) | M36: =(G36+I36)*F36 -> 0
B37: 4 | C37: C4 | D37: ฝ้าเพดานยิปซั่มอร์ด ชนิดลดเสียงสะท้อนชนิดรูเหลี่ยม S8 พร้อมแผ่นดูดซับเสียง | E37: ตร.ม. | F37: 93 | G37: =460*0.9 -> 414 | H37: =F37*G37 -> 38502 | I37: =75 -> 75 | J37: =F37*I37 -> 6975 | K37: =H37+J37 -> 45477 | L37: =(G37+I37)*F37 -> 45477 | M37: =(G37+I37)*F37 -> 45477
B38: 5 | C38: C5 | D38: ฝ้าเพดานไฟเบอร์ซีเมนต์ หนา 4 มม. ฉาบเรียบพร้อมโครงเคร่าและอุปกรณ์ | E38: ตร.ม. | F38: =1.5*66 -> 99 | G38: 264 | H38: =F38*G38 -> 26136 | I38: 50 | J38: =F38*I38 -> 4950 | K38: =H38+J38 -> 31086 | L38: =(G38+I38)*F38 -> 31086 | M38: =(G38+I38)*F38 -> 31086 | O38: สพฐ 2565
C39: - | D39: หลืบไฟ | E39: ม. | F39: 503 | G39: 150 | H39: =F39*G39 -> 75450 | I39: 0 | J39: =F39*I39 -> 0 | K39: =H39+J39 -> 75450 | L39: =(G39+I39)*F39 -> 75450 | M39: =(G39+I39)*F39 -> 75450
C40: - | D40: หลืบม่าน | E40: ม. | F40: 42 | G40: 100 | H40: =F40*G40 -> 4200 | I40: 0 | J40: =F40*I40 -> 0 | K40: =H40+J40 -> 4200 | L40: =(G40+I40)*F40 -> 4200 | M40: =(G40+I40)*F40 -> 4200
C41: - | D41: ช่อง Service 0.60x0.60 ม. | E41: ชุด | F41: 10 | G41: 480 | H41: =F41*G41 -> 4800 | I41: 0 | J41: =F41*I41 -> 0 | K41: =H41+J41 -> 4800 | L41: =(G41+I41)*F41 -> 4800 | M41: =(G41+I41)*F41 -> 4800
C43: รวม (1.2.2 )งานฝ้าเพดาน | H43: =SUM(H34:H41) -> 341816 | J43: =SUM(J34:J41) -> 67525 | K43: =H43+J43 -> 409341 | L43: =H43+J43 -> 409341 | M43: =K43-L43 -> 0
C44: 1.2.3 งานผนัง-ผิวผนัง
B45: 1 | C45: ผนังเดิม แต่งผิว | E45: ตร.ม. | F45: =126*1.2 -> 151.2 | G45: 50 | H45: =F45*G45 -> 7560 | I45: 34 | J45: =F45*I45 -> 5140.8 | K45: =H45+J45 -> 12700.8 | L45: =(G45+I45)*F45 -> 12700.8 | M45: =(G45+I45)*F45 -> 12700.8
B46: 2 | C46: ผนังเบากรุแผ่นไฟเบอร์ซีเมนต์หนา8มม.2ด้าน โครงเคร่าเหล็กชุบสังกะสี ฉาบเรียบทาสี | E46: ตร.ม. | F46: =(380+45)*1.1 -> 467.5 | G46: 420 | H46: =F46*G46 -> 196350 | I46: 154 | J46: =F46*I46 -> 71995 | K46: =H46+J46 -> 268345 | L46: =(G46+I46)*F46 -> 268345 | M46: =(G46+I46)*F46 -> 268345
B47: 3 | C47: ผนังเบากรุแผ่นไฟเบอร์ซีเมนต์หนา8มม.1ด้าน โครงเคร่าเหล็กชุบสังกะสี ฉาบเรียบทาสี | E47: ตร.ม. | F47: =24*1.1 -> 26.4 | G47: 295 | H47: =F47*G47 -> 7788 | I47: 108 | J47: =F47*I47 -> 2851.2 | K47: =H47+J47 -> 10639.2 | L47: =(G47+I47)*F47 -> 10639.2 | M47: =(G47+I47)*F47 -> 10639.2
B48: 4 | C48: ภายในผนังบุฉนวน POLYESTER FIBER (P3&P9) | E48: ตร.ม. | F48: =F46-45 -> 422.5 | G48: =225 -> 225 | H48: =F48*G48 -> 95062.5 | I48: =G48*0.3 -> 67.5 | J48: =F48*I48 -> 28518.75 | K48: =H48+J48 -> 123581.25 | L48: =(G48+I48)*F48 -> 123581.25 | M48: =(G48+I48)*F48 -> 123581.25 | O48: แผ่นฉนวนกันเสียงขนาด 0.60*1.20 ม.=0.72 ตร.ม. ราคา 225บาท/แผ่น
...

Sheet ว281

Sheet F
B1: *** complete ***
B2: การคำนวณหาค่า Factor-F เฉลี่ย | F2: ตาราง Factor F งานอาคาร
B3: หนังสือกระทรวงการคลังที่ กค.0433.2 / ว.281 ลว.19 มิถุนายน 2563 | F3: เงินล่วงหน้าจ่าย | G3: 0
B4: เริ่มใช้ 19 มิถุนายน 2563 | F4: เงินประกันผลงานหัก | G4: 0
B5: ราคาค่าวัสดุและค่าแรงที่ประมาณราคาได้ | D5: ='สรุป Factor F-แบบรวม'!H20 -> 25468055 | E5: บาท | F5: ดอกเบี้ยเงินกู้ | G5: 0.05
B6: Factor F = | C6: D - ((D-E)*(A-B)/(C-B)) | F6: ค่าภาษีมูลค่าเพิ่ม | G6: 0.07
B8: B | C8: =IF(C9<499999,500000,VLOOKUP(C9,factor_table,1,TRUE)) -> 25000000 | D8: B : ค่างานต้นทุนต่ำ | F8: ค่างานต้นทุน | G8: Factor F
B9: A | C9: =D5 -> 25468055 | D9: A : ค่างานต้นทุนที่ประมาณราคาได้ | F9: (บาท)
B10: C | C10: =IF(C9>500000001,500000001,INDEX(factor_table,MATCH(C8,factor_table,0)+1,1)) -> 30000000 | D10: C : ค่างานต้นทุนสูง | F10: 500000 | G10: 1.3056
F11: 1000000 | G11: 1.3033
B12: D | C12: =VLOOKUP(C8,$F$10:$G$33,2,FALSE) -> 1.223 | D12: D : Factor F ทุนต่ำ | F12: 2000000 | G12: 1.3017
B13: E | C13: =VLOOKUP(C10,$F$10:$G$33,2,FALSE) -> 1.2147 | D13: E : Factor F ทุนสูง | F13: 5000000 | G13: 1.2985
B14: Factor F = | C14: =ROUND(C12-(((C12-C13)*(C9-C8))/(C10-C8)),4) -> 1.2222 | D14: นำค่านี้ไปใช้ในการคำนวณ | F14: 10000000 | G14: 1.2926
F15: 15000000 | G15: 1.2576
B16: A * Factor F | C16: =C9*C14 -> 31127057 | F16: 20000000 | G16: 1.25
F17: 25000000 | G17: 1.223
F18: 30000000 | G18: 1.2147
F19: 40000000 | G19: 1.2143
F20: 50000000 | G20: 1.2142
F21: 60000000 | G21: 1.2043
F22: 70000000 | G22: 1.2032
F23: 80000000 | G23: 1.2032
F24: 90000000 | G24: 1.2032
F25: 100000000 | G25: 1.2032
F26: 150000000 | G26: 1.2005
F27: 200000000 | G27: 1.2005
F28: 250000000 | G28: 1.1996
... F32: 500000000 | G32: 1.1835
F33: >500,000,000 | G33: 1.177

Sheet คำนวณFactor F
A1: คำนวณเทียบอัตราส่วนเพื่อหาค่า Factor F
A2: โครงการ ปรับปรุงพื้นที่หอผู้ป่วย ส.9+Nicu สถาบันสุขภาพเด็กแห่งชาติมหาราชินี
A3: 1 | B3: ค่าวัสดุ และค่าแรงงาน ของงานก่อสร้าง | R3: เป็นเงิน | W3: 24702211 | AC3: บาท
B4: เงื่อนไข | E4: เงินล่วงหน้าจ่าย 0% | P4: ดอกเบี้ยเงินกู้ | T4: 5 | U4: % ต่อปี
E5: เงินประกันผลงานหัก 0% | P5: ภาษีมูลค่าเพิ่ม (VAT) 7%
B6: เมื่อ | E6: ต้องการหาค่า Factor F ของค่างานต้นทุน | Q6: = | R6: A | S6: = | T6: =+W3 -> 24702211 | Y6: บาท
E7: ค่างานต้นทุนตัวต่ำกว่าค่างาน ต้นทุน A | Q7: = | R7: B | S7: = | T7: 20000000 | Y7: บาท
E8: ค่างานต้นทุนตัวสูงกว่าค่างาน ต้นทุน A | Q8: = | R8: C | S8: = | T8: 25000000 | Y8: บาท
E9: ค่า Factor F ของงานต้นทุน B | Q9: = | R9: D | S9: = | U9: 1.25
E10: ค่า Factor F ของงานต้นทุน C | Q10: = | R10: E | S10: = | U10: 1.223
E11: ค่า Factor F | Q11: = | R11: =R9 -> D | S11: - | T11: [ ( | U11: =R9 -> D | V11: - | W11: =R10 -> E | Y11: ) | Z11: x | AA11: ( | AB11: =R6 -> A | AC11: - | AD11: =R7 -> B | AE11: )]
W12: ( | X12: =R8 -> C | Y12: - | Z12: =R7 -> B | AA12: )
E14: แทนค่าสูตร | Q14: = | R14: =U9 -> 1.25 | T14: - | U14: [( | V14: =U9 -> 1.25 | X14: - | Y14: =U10 -> 1.223 | AA14: )( | AB14: =T6 -> 24702211 | AG14: - | AH14: =T7 -> 20000000 | AM14: )]
V15: ( | W15: =T8 -> 25000000 | AB15: - | AC15: =T7 -> 20000000 | AH15: )
Q17: = | R17: =R14 -> 1.25 | T17: - [( | U17: =V14-Y14 -> 0.027 | W17: )( | X17: =AB14-AH14 -> 4702210.7 | AB17: )]
V18: =W15-AC15 -> 5000000
Q19: = | R19: =R17 -> 1.25 | T19: - | U19: =IF(X17>0,((U17*X17)/V18),"0.0000") -> 0.025391938 | AN19: =+R19-U19 -> 1.2246081
E21: ดังนั้นใช้ Factor F | Q21: = | R21: =ROUNDDOWN(R19-U19,4) -> 1.2246
I24: ราคาค่าก่อสร้างเมื่อรวม Factor F | U24: = | V24: =W3*R21 -> 30250327
