Workbook
Name factor_table: F!$F$10:$F$33

Sheet สรุป Factor F-แบบรวม
B2: บัญชีแสดงรายการก่อสร้างสำหรับงานก่อสร้างอาคาร
B3: ส่วนราชการ สถาบันสุขภาพเด็กแห่งชาติมหาราชินี กรมการแพทย์ กระทรวงสาธารณสุข โทร 02
C4: ประเภท | D4: โครงการพัฒนาปรับปรุงพื้นที่ ส. 9 850 ตร.ม. x 30,000 บาท/ตารางเมตร /1.4 โครงการพัฒนาปรับปรุงพื้นที่หอผู้ป่วย
D5: ส. 9 ฝั่งตะวันออก โดยปรับปรุงเป็น NICU จำนวน 850 ตร.ม. x 30,000 บาท ต่อตารางเมตร (พัฒนาปรับปรุงพื้นที่
D6: หอผู้ป่วย ส. 9 และพื้นที่หอผู้ป่วย ส. 9 ฝั่งตะวันออก)
C7: สถานที่ก่อสร้าง | D7: =[1]ปร.4!D3 -> เลขที่ 420/8 ถ.ราชวิถี แขวงทุ่งพญาไท เขตราชเทวี กรุงเทพมหานคร
C8: หน่วยงานออกแบบแปลนและรายการ | E8: สถาบันสุขภาพเด็กแห่งชาติมหาราชินี
C9: แบบเลขที่ | D9: แบบเอกชน | H9: พื้นที่อาคาร | I9: ตร.ม.
C10: ประมาณราคาตามแบบ ปร.4 | E10: จำนวน | F10: 0 | G10: แผ่น | H10: จำนวนชั้น
C11: ราคาค่าวัสดุ สำนักดัชนีเศรษฐกิจการค้า กระทรวงพาณิชย์ กรุงเทพมหานคร ประจำเดือน ตุลาคม 2565
C12: ราคาค่าแรงงานตามบัญชีค่าแรงงาน / ค่าดำเนินการ สำหรับถอดแบบคำนวนราคากลางงานก่อสร้าง เดือน ธันวาคม 2561
C13: ประมาณราคาเมื่อเดือน กุมภาพันธ์ 2564 | G13: ปรับราคาเมื่อเดือน พฤศจิกายน 2565
B14: ประกาศอัตราดอกเบี้ยเงินกู้ฯ และปรับปรุงตาราง Factor F หนังสือกรมบัญชีกลาง ที่ กค 0433.2/ว.1288 ลงวันที่ 17 ตุลาคม 2565
B15: FACTOR . F ประเภทงานอาคาร เงื่อนไข - เงินล่วงหน้าจ่าย 0% , - เงินประกันผลงานหัก 0 % , - ดอกเบี้ยเงินกู้ 6 % , ค่าภาษีมูลค่าเพิ่ม 7 %
B17: ลำดับที่ | C17: รายการ | G17: ราคาค่าก่อสร้างปรับปรุง | I17: หมายเหตุ
G18: -
B19: 1 | C19: ค่างานส่วนที่ 1 ค่างานต้นทุน (คำนวนในราคาทุน) | G19: - | H19: =สรุปส่วนงาน!G48 -> 0
C20: ราคารวมค่า Factor F | F20: =F!C14 -> 1.3098 | G20: - | H20: =H19*F20 -> 0
B21: 2 | C21: ค่างานส่วนที่ 2 หมวดงานครุภัณฑ์จัดซื้อหรือสั่งซื้อ | G21: - | H21: =สรุปส่วนงาน!G59 -> 0
C22: ราคารวมค่าภาษีมูลค่าเพิ่ม (VAT) | F22: 7 % | G22: - | H22: =H21*1.07 -> 0
B23: 3 | C23: ค่างานส่วนที่ 3 ค่าใช้จ่ายพิเศษตามข้อกำหนดฯ (ถ้ามี) | H23: =สรุปส่วนงาน!G65 -> 0
B25: รวมเงิน (1)+(2)+(3) | H25: =H20+H22+H23 -> 0
B26: คิดเป็นเงินทั้งสิ้นโดยประมาณ | H26: =H25 -> 0 | K26: 0
D27: (ตัวอักษร) | G27: =BAHTTEXT(H26) -> ศูนย์บาทถ้วน
C28: พื้นที่อาคาร | D28: 0 | E28: ตร.ม. | F28: เฉลี่ยราคา | G28: 0 | I28: บาท / ตร.ม.

Sheet สรุปส่วนงาน
B1: บัญชีแสดงรายการก่อสร้างสำหรับงานก่อสร้างอาคาร
B2: โครงการก่อสร้าง | D2: โครงการพัฒนาปรับปรุงพื้นที่ ส. 9 850 ตร.ม. x 30,000 บาท/ตารางเมตร /1.4 โครงการพัฒนาปรับปรุงพื้นที่หอผู้ป่วย ส. 9 ฝั่งตะวันออก โดยปรับปรุงเป็น NICU จำนวน 850 ตร.ม. x 30,000 บาท ต่อตารางเมตร (พัฒนาปรับปรุงพื้นที่ หอผู้ป่วย ส. 9 และพื้นที่หอผู้ป่วย ส. 9 ฝั่งตะวันออก) | F2: แบบเลขที่ | G2: แบบเอกชน
B3: สถานที่ก่อสร้าง | D3: สถาบันสุขภาพแห่งชาติมหาราชินี ถนนราชวิถี แขวงทุ่งพญาไท เขตราชเทวี กทม. | F3: เอกสารเลขที่
B4: ลำดับ | C4: รายการ | E4: จำนวนเงิน | G4: รวมเป็นเงิน
E5: ค่าวัสดุ | F5: ค่าแรง
C7: ส่วนงานที่ 1
B8: 1 | C8: กลุ่มงานที่ 1
C9: (คิดเฉพาะค่าวัสดุและค่าแรงงานหรือทุนซึ่งยังไม่รวมค่าอำนวยการ ดอกเบี้ย กำไร และภาษี)
C10: 1.1 | D10: งานโครงสร้าง
D11: 1.1.1 งานโครงสร้างอาคาร
D12: 1.1.2 งานโครงเหล็กรับพื้น | E12: ='BOQ 25พ.ย.2565'!H19 -> 0 | F12: ='BOQ 25พ.ย.2565'!J19 -> 0 | G12: =SUM(E12:F12) -> 0 | H12: ='BOQ 25พ.ย.2565'!K19 -> 0
C13: 1.2 | D13: งานสถาปัตยกรรม
D14: 1.2.1 งานรื้อถอน | E14: ='BOQ 25พ.ย.2565'!H31 -> 0 | F14: ='BOQ 25พ.ย.2565'!J31 -> 0 | G14: =SUM(E14:F14) -> 0 | H14: ='BOQ 25พ.ย.2565'!K31 -> 0
D15: 1.2.2 งานฝ้าเพดาน | E15: ='BOQ 25พ.ย.2565'!H43 -> 0 | F15: ='BOQ 25พ.ย.2565'!J43 -> 0 | G15: =SUM(E15:F15) -> 0 | H15: ='BOQ 25พ.ย.2565'!K43 -> 0
D16: 1.2.3 งานผนัง - ผิวผนัง | E16: ='BOQ 25พ.ย.2565'!H66 -> 0 | F16: ='BOQ 25พ.ย.2565'!J66 -> 0 | G16: =SUM(E16:F16) -> 0 | H16: ='BOQ 25พ.ย.2565'!K66 -> 0
D17: 1.2.4 งานพื้น - ผิวพื้น | E17: ='BOQ 25พ.ย.2565'!H80 -> 0 | F17: ='BOQ 25พ.ย.2565'!J80 -> 0 | G17: =SUM(E17:F17) -> 0 | H17: ='BOQ 25พ.ย.2565'!K24 -> 0
D18: 1.2.5 งานประตู - หน้าต่าง | E18: ='BOQ 25พ.ย.2565'!H131 -> 0 | F18: ='BOQ 25พ.ย.2565'!J131 -> 0 | G18: =SUM(E18:F18) -> 0 | H18: ='BOQ 25พ.ย.2565'!K131 -> 0
D19: 1.2.6 งานสุขภัณฑ์ | E19: ='BOQ 25พ.ย.2565'!H159 -> 0 | F19: ='BOQ 25พ.ย.2565'!J159 -> 0 | G19: =SUM(E19:F19) -> 0 | H19: ='BOQ 25พ.ย.2565'!K159 -> 0
D20: 1.2.7 งานทาสี | E20: ='BOQ 25พ.ย.2565'!H166 -> 0 | F20: ='BOQ 25พ.ย.2565'!J166 -> 0 | G20: =SUM(E20:F20) -> 0 | H20: ='BOQ 25พ.ย.2565'!K166 -> 0
D21: 1.2.8 งานเบ็ดเตล็ด | E21: ='BOQ 25พ.ย.2565'!H173 -> 0 | F21: ='BOQ 25พ.ย.2565'!J173 -> 0 | G21: =SUM(E21:F21) -> 0 | H21: ='BOQ 25พ.ย.2565'!K173 -> 0
C22: 1.3 | D22: งานระบบประปา - สุขาภิบาล และงานระบบดับเพลิง | E22: ='BOQ 25พ.ย.2565'!H216 -> 0 | F22: ='BOQ 25พ.ย.2565'!J216 -> 0 | G22: =SUM(E22:F22) -> 0 | H22: ='BOQ 25พ.ย.2565'!K174 -> 0
C23: 1.4 | D23: งานระบบไฟฟ้าและสื่อสาร | H23: ='BOQ 25พ.ย.2565'!K175 -> 0
D24: 1.4.1 งานระบบไฟฟ้า - ดวงโคม | E24: ='BOQ 25พ.ย.2565'!H288 -> 0 | F24: ='BOQ 25พ.ย.2565'!J288 -> 0 | G24: =SUM(E24:F24) -> 0 | H24: ='BOQ 25พ.ย.2565'!K176 -> 0
D25: 1.4.2 งานระบบโทรศัพท์ | E25: ='BOQ 25พ.ย.2565'!H303 -> 0 | F25: ='BOQ 25พ.ย.2565'!J303 -> 0 | G25: =SUM(E25:F25) -> 0 | H25: ='BOQ 25พ.ย.2565'!K177 -> 0
D26: 1.4.3 งานระบบแจ้งเพลิงใหม้ | E26: ='BOQ 25พ.ย.2565'!H325 -> 0 | F26: ='BOQ 25พ.ย.2565'!J325 -> 0 | G26: =SUM(E26:F26) -> 0 | H26: ='BOQ 25พ.ย.2565'!K178 -> 0
D27: 1.4.4 งานระบบควบคุมการเข้าออกและโทรทัศน์วงจรปิด | E27: ='BOQ 25พ.ย.2565'!H337 -> 0 | F27: ='BOQ 25พ.ย.2565'!J337 -> 0 | G27: =SUM(E27:F27) -> 0 | H27: ='BOQ 25พ.ย.2565'!K179 -> 0
D28: 1.4.5 งานระบบ MATV | E28: ='BOQ 25พ.ย.2565'!H348 -> 0 | F28: ='BOQ 25พ.ย.2565'!J348 -> 0 | G28: =SUM(E28:F28) -> 0 | H28: ='BOQ 25พ.ย.2565'!K180 -> 0
D29: 1.4.6 งานระบบเสียงประกาศ | E29: ='BOQ 25พ.ย.2565'!H360 -> 0 | F29: ='BOQ 25พ.ย.2565'!J360 -> 0 | G29: =SUM(E29:F29) -> 0 | H29: ='BOQ 25พ.ย.2565'!K181 -> 0
C30: 1.5 | D30: งานระบบปรับอากาศและระบายอากาศ | E30: ='BOQ 25พ.ย.2565'!H513 -> 0 | F30: ='BOQ 25พ.ย.2565'!J513 -> 0 | G30: =SUM(E30:F30) -> 0 | H30: ='BOQ 25พ.ย.2565'!K182 -> 0
C31: 1.6 | D31: งานระบบเครื่องกลและงานระบบพิเศษ | H31: ='BOQ 25พ.ย.2565'!K183 -> 0
D32: 1.6.1 งานระบบแก๊สทางการแพทย์ | E32: ='BOQ 25พ.ย.2565'!H541 -> 0 | F32: ='BOQ 25พ.ย.2565'!J541 -> 0 | G32: =SUM(E32:F32) -> 0 | H32: ='BOQ 25พ.ย.2565'!K184 -> 0
H33: ='BOQ 25พ.ย.2565'!K185 -> 0
D34: รวมค่างานกลุ่มงานที่ 1 | E34: =SUM(E8:E33) -> 0 | F34: =SUM(F10:F33) -> 0 | G34: =E34+F34 -> 0 | H34: ='BOQ 25พ.ย.2565'!K186 -> 0 | I34: =E34+#REF!+#REF! -> #REF!
H35: ='BOQ 25พ.ย.2565'!K187 -> 0
B36: 2 | C36: กลุ่มงานที่ 2 | H36: ='BOQ 25พ.ย.2565'!K188 -> 0
C37: (คิดเฉพาะค่าวัสดุและค่าแรงงานหรือทุนซึ่งยังไม่รวมค่าอำนวยการ ดอกเบี้ย กำไร และภาษี) | H37: ='BOQ 25พ.ย.2565'!K189 -> 0
D38: งานตกแต่งภายในอาคาร | E38: ='BOQ 25พ.ย.2565'!H572 -> 0 | F38: ='BOQ 25พ.ย.2565'!J572 -> 0 | G38: =SUM(E38:F38) -> 0 | H38: ='BOQ 25พ.ย.2565'!K190 -> 0
H39: ='BOQ 25พ.ย.2565'!K191 -> 0
D40: รวมค่างานกลุ่มงานที่ 2 | E40: =SUM(E36:E38) -> 0 | F40: =SUM(F36:F38) -> 0 | G40: =E40+F40 -> 0 | H40: ='BOQ 25พ.ย.2565'!K192 -> 0
H41: ='BOQ 25พ.ย.2565'!K193 -> 0
...

Sheet BOQ 25พ.ย.2565
B1: บัญชีแสดงรายการก่อสร้างสำหรับงานก่อสร้างอาคาร
B2: โครงการก่อสร้าง | D2: โครงการพัฒนาปรับปรุงพื้นที่ ส. 9 850 ตร.ม. x 30,000 บาท/ตารางเมตร /1.4 โครงการพัฒนาปรับปรุงพื้นที่หอผู้ป่วย ส. 9 ฝั่งตะวันออก โดยปรับปรุงเป็น NICU จำนวน 850 ตร.ม. x 30,000 บาท ต่อตารางเมตร (พัฒนาปรับปรุงพื้นที่ หอผู้ป่วย ส. 9 และพื้นที่หอผู้ป่วย ส. 9 ฝั่งตะวันออก) | J2: แบบเลขที่
B4: สถานที่ก่อสร้าง | D4: สถาบันสุขภาพแห่งชาติมหาราชินี ถนนราชวิถี แขวงทุ่งพญาไท เขตราชเทวี กทม. | J4: เอกสารเลขที่
B5: ผู้ประมาณการ | D5: บริษัท S2 all.,ltd. | E5: วันที่ประมาณราคา เดือนกุมภาพันธ์ 2564 | J5: พื้นที่อาคาร | K5: ตร.ม.
B6: ผู้ปรับราคา | E6: วันที่แจ้งราคา | J6: จำนวน | K6: ชั้น
B7: ผู้ตรวจสอบ | D7: คณะกรรมการกำหนดราคากลาง | E7: ตรวจสอบปรับราคา | G7: เดือน พฤศจิกายน 2565
B9: ลำดับ | C9: รายการ | E9: หน่วย | F9: จำนวน | G9: ราคาวัสดุ | I9: ค่าแรงงาน | K9: ราคารวม
G10: ต่อหน่วย | H10: รวมวัสดุ | I10: ต่อหน่วย | J10: รวมค่าแรง
C12: ส่วนงานที่ 1
C13: กลุ่มงานที่ 1
B14: 1.1 | C14: งานโครงสร้างทั่วไป
C16: รวม (1.1.1 ) งานโครงสร้างทั่วไป | H16: =SUM(H15:H15) -> 0 | J16: =SUM(J15:J15) -> 0 | K16: =H16+J16 -> 0
C17: 1.1.2 งานโครงเหล็ก
C19: รวม (1.1.2 ) งานโครงเหล็ก | H19: =SUM(H18:H18) -> 0 | J19: =SUM(J18:J18) -> 0 | K19: =SUM(K18:K18) -> 0 | L19: =(H19+J19) -> 0
B21: 1.2 | C21: งานสถาปัตยกรรม
C22: 1.2.1 งานรื้อถอน
C23: งานรื้อถอน-ขนทิ้ง
C24: - รื้อถอนผนังก่ออิฐ | E24: ตร.ม. | F24: 300
C25: - รื้อถอนฝ้า | E25: ตร.ม. | F25: 1200
C26: - รื้อถอนประตู-หน้าต่าง | E26: ตร.ม. | F26: 300
C27: - รื้อถอนเครื่องปรับอากาศ | E27: ชุด | F27: 25
C28: - รื้อถอนดวงโคมไฟฟ้า | E28: ชุด | F28: =95+139 -> 234
C29: - รื้อถอนงานระบบก๊าซทางการแพทย์ | E29: ชุด | F29: 70
C31: รวม (1.2.1 ) งานรื้อถอน
C32: 1.2.2 งานฝ้าเพดาน
B33: 1 | C33: C1 | D33: ฝ้าเพดานยิบซั่มบอร์ด หนา 9 มม. ฉาบเรียบพร้อมโครงเคร่าและอุปกรณ์ | E33: ตร.ม. | F33: 1613
B34: 2 | C34: C2 | D34: ฝ้าเพดานยิบซั่มบอร์ด หนา 9 มม. ทนชื้น ฉาบเรียบ พร้อมโครงเคร่าและอุปกรณ์ | E34: ตร.ม. | F34: 160
B35: 3 | C35: C3 | D35: ฝ้าเพดานยิบซั่มบอร์ด หนา 9 มม. ฉาบเรียบพร้อมโครงเคร่าและอุปกรณ์ | E35: ตร.ม. | F35: 218
D36: ปิดวอลล์เปเปอร์(ชนิดหลังผ้า)
B37: 4 | C37: C4 | D37: ฝ้าเพดานยิปซั่มอร์ด ชนิดลดเสียงสะท้อนชนิดรูเหลี่ยม S8 พร้อมแผ่นดูดซับเสียง | E37: ตร.ม. | F37: 93
B38: 5 | C38: C5 | D38: ฝ้าเพดานไฟเบอร์ซีเมนต์ หนา 4 มม. ฉาบเรียบพร้อมโครงเคร่าและอุปกรณ์ | E38: ตร.ม. | F38: =1.5*66 -> 99
C39: - | D39: หลืบไฟ | E39: ม. | F39: 503
C40: - | D40: หลืบม่าน | E40: ม. | F40: 42
C41: - | D41: ช่อง Service 0.60x0.60 ม. | E41: ชุด | F41: 10
C43: รวม (1.2.2 )งานฝ้าเพดาน
C44: 1.2.3 งานผนัง-ผิวผนัง
B45: 1 | C45: ผนังเดิม แต่งผิว | E45: ตร.ม. | F45: =126*1.2 -> 151.2
B46: 2 | C46: ผนังเบากรุแผ่นไฟเบอร์ซีเมนต์หนา8มม.2ด้าน โครงเคร่าเหล็กชุบสังกะสี ฉาบเรียบทาสี | E46: ตร.ม. | F46: =(380+45)*1.1 -> 467.5
B47: 3 | C47: ผนังเบากรุแผ่นไฟเบอร์ซีเมนต์หนา8มม.1ด้าน โครงเคร่าเหล็กชุบสังกะสี ฉาบเรียบทาสี | E47: ตร.ม. | F47: =24*1.1 -> 26.4
B48: 4 | C48: ภายในผนังบุฉนวน POLYESTER FIBER (P3&P9) | E48: ตร.ม. | F48: =F46-45 -> 422.5
...

Sheet F
B1: *** complete ***
B2: การคำนวณหาค่า Factor-F เฉลี่ย | F2: ตาราง Factor F งานอาคาร
B3: หนังสือกระทรวงการคลังที่ กค.0433.2 / ว.1288 ลว.17 ตุลาคม 2565 | F3: เงินล่วงหน้าจ่าย | G3: 0
B4: เริ่มใช้ 17 ตุลาคม 2565 | F4: เงินประกันผลงานหัก | G4: 0
B5: ราคาค่าวัสดุและค่าแรงที่ประมาณราคาได้ | D5: ='สรุป Factor F-แบบรวม'!H19 -> 0 | E5: บาท | F5: ดอกเบี้ยเงินกู้ | G5: 0.06
B6: Factor F = | C6: D - ((D-E)*(A-B)/(C-B)) | F6: ค่าภาษีมูลค่าเพิ่ม | G6: 0.07
B8: B | C8: =IF(C9<499999,500000,VLOOKUP(C9,factor_table,1,TRUE)) -> 500000 | D8: B : ค่างานต้นทุนต่ำ | F8: ค่างานต้นทุน | G8: Factor F
B9: A | C9: =D5 -> 0 | D9: A : ค่างานต้นทุนที่ประมาณราคาได้ | F9: (บาท)
B10: C | C10: =IF(C9>500000001,500000001,INDEX(factor_table,MATCH(C8,factor_table,0)+1,1)) -> 1000000 | D10: C : ค่างานต้นทุนสูง | F10: 500000 | G10: 1.3074
F11: 1000000 | G11: 1.305
B12: D | C12: =VLOOKUP(C8,$F$10:$G$33,2,FALSE) -> 1.3074 | D12: D : Factor F ทุนต่ำ | F12: 2000000 | G12: 1.3035
B13: E | C13: =VLOOKUP(C10,$F$10:$G$33,2,FALSE) -> 1.305 | D13: E : Factor F ทุนสูง | F13: 5000000 | G13: 1.3003
B14: Factor F = | C14: =ROUND(C12-(((C12-C13)*(C9-C8))/(C10-C8)),4) -> 1.3098 | D14: นำค่านี้ไปใช้ในการคำนวณ | F14: 10000000 | G14: 1.2943
F15: 15000000 | G15: 1.2594
B16: A * Factor F | C16: =C9*C14 -> 0 | F16: 20000000 | G16: 1.2518
F17: 25000000 | G17: 1.2248
F18: 30000000 | G18: 1.2164
F19: 40000000 | G19: 1.2161
F20: 50000000 | G20: 1.2159
F21: 60000000 | G21: 1.2061
F22: 70000000 | G22: 1.205
F23: 80000000 | G23: 1.205
F24: 90000000 | G24: 1.2049
F25: 100000000 | G25: 1.2049
F26: 150000000 | G26: 1.2023
F27: 200000000 | G27: 1.2023
F28: 250000000 | G28: 1.2013
... F32: 500000000 | G32: 1.1853
F33: >500,000,000 | G33: 1.1788

Sheet คำนวณFactor F
A1: คำนวณเทียบอัตราส่วนเพื่อหาค่า Factor F
A2: โครงการ ปรับปรุงพื้นที่หอผู้ป่วย ส.9+Nicu สถาบันสุขภาพเด็กแห่งชาติมหาราชินี
A3: 1 | B3: ค่าวัสดุ และค่าแรงงาน ของงานก่อสร้าง | R3: เป็นเงิน | W3: 23515834 | AC3: บาท
B4: เงื่อนไข | E4: เงินล่วงหน้าจ่าย 0% | P4: ดอกเบี้ยเงินกู้ | T4: 6 | U4: % ต่อปี
E5: เงินประกันผลงานหัก 0% | P5: ภาษีมูลค่าเพิ่ม (VAT) 7%
B6: เมื่อ | E6: ต้องการหาค่า Factor F ของค่างานต้นทุน | Q6: = | R6: A | S6: = | T6: =+W3 -> 23515834 | Y6: บาท
E7: ค่างานต้นทุนตัวต่ำกว่าค่างาน ต้นทุน A | Q7: = | R7: B(ต้นทุนต่ำ) | S7: = | T7: 20000000 | Y7: บาท
E8: ค่างานต้นทุนตัวสูงกว่าค่างาน ต้นทุน A | Q8: = | R8: C(ต้นทุนสูง) | S8: = | T8: 25000000 | Y8: บาท
E9: ค่า Factor F ของงานต้นทุน B | Q9: = | R9: D (Fต่ำ) | S9: = | U9: 1.2518
E10: ค่า Factor F ของงานต้นทุน C | Q10: = | R10: E(Fสูง) | S10: = | U10: 1.2248
E11: ค่า Factor F | Q11: = | R11: =R9 -> D (Fต่ำ) | S11: - | T11: [ ( | U11: =R9 -> D (Fต่ำ) | V11: - | W11: =R10 -> E(Fสูง) | Y11: ) | Z11: x | AA11: ( | AB11: =R6 -> A | AC11: - | AD11: =R7 -> B(ต้นทุนต่ำ) | AE11: )]
W12: ( | X12: =R8 -> C(ต้นทุนสูง) | Y12: - | Z12: =R7 -> B(ต้นทุนต่ำ) | AA12: )
E14: แทนค่าสูตร | Q14: = | R14: =U9 -> 1.2518 | T14: - | U14: [( | V14: =U9 -> 1.2518 | X14: - | Y14: =U10 -> 1.2248 | AA14: )( | AB14: =T6 -> 23515834 | AG14: - | AH14: =T7 -> 20000000 | AM14: )]
V15: ( | W15: =T8 -> 25000000 | AB15: - | AC15: =T7 -> 20000000 | AH15: )
Q17: = | R17: =R14 -> 1.2518 | T17: - [( | U17: =V14-Y14 -> 0.027 | W17: )( | X17: =AB14-AH14 -> 3515834.1 | AB17: )]
V18: =W15-AC15 -> 5000000
Q19: = | R19: =R17 -> 1.2518 | T19: - | U19: =IF(X17>0,((U17*X17)/V18),"0.0000") -> 0.018985504 | AN19: =+R19-U19 -> 1.2328145
N21: ดังนั้นใช้ Factor F | Q21: = | R21: =ROUNDDOWN(R19-U19,4) -> 1.2328
Q24: ราคาค่าก่อสร้างเมื่อรวม Factor F | U24: = | V24: =W3*R21 -> 28990320
